BEGIN:VCALENDAR
VERSION:2.0
PRODID:-//Pomper Adventures - ECPv6.8.3//NONSGML v1.0//EN
CALSCALE:GREGORIAN
METHOD:PUBLISH
X-ORIGINAL-URL:https://pomperadventures.com
X-WR-CALDESC:Events for Pomper Adventures
REFRESH-INTERVAL;VALUE=DURATION:PT1H
X-Robots-Tag:noindex
X-PUBLISHED-TTL:PT1H
BEGIN:VTIMEZONE
TZID:UTC
BEGIN:STANDARD
TZOFFSETFROM:+0000
TZOFFSETTO:+0000
TZNAME:UTC
DTSTART:20240101T000000
END:STANDARD
END:VTIMEZONE
BEGIN:VEVENT
DTSTART;TZID=UTC:20251205T080000
DTEND;TZID=UTC:20251205T170000
DTSTAMP:20260422T182142
CREATED:20251215T044838Z
LAST-MODIFIED:20251215T050611Z
UID:1577-1764921600-1764954000@pomperadventures.com
SUMMARY:Pomper Adventures Tours and Safaris Named Company of the Year 2025 at the Digitally Fit Awards
DESCRIPTION:Pomper Adventures Tours and Safaris has been awarded Top Digitally Fit Tours and Travel Company in East Africa and named Company of the Year 2025 at the Digitally Fit Awards\, held at Speke Resort Munyonyo\, Kampala\, Uganda. \nhttp://pomperadventures.com/wp-content/uploads/2025/12/Award.mp4
URL:https://pomperadventures.com/event/digitally-fit-awards/
CATEGORIES:Awards
ATTACH;FMTTYPE=image/jpeg:https://pomperadventures.com/wp-content/uploads/2025/12/DigitallyFit.jpg
END:VEVENT
BEGIN:VEVENT
DTSTART;VALUE=DATE:20241213
DTEND;VALUE=DATE:20241214
DTSTAMP:20260422T182142
CREATED:20241217T095312Z
LAST-MODIFIED:20241217T095313Z
UID:1169-1734048000-1734134399@pomperadventures.com
SUMMARY:Pomper Adventures and Safaris Wins Prestigious Award
DESCRIPTION:We are thrilled to announce that Pomper Adventures and Safaris has been honored with the prestigious Outstanding Tours and Travel Agency of the Year award by Elite Brands Awards International. This accolade recognizes our exceptional performance and dedication to providing top-notch travel experiences. \n \nThe award was presented to us on December 13\, 2024\, and we were also voted as the Consumers’ Popular Choice. This recognition is a testament to our commitment to excellence and customer satisfaction. \nThank you to all our clients and partners for your continued support. We couldn’t have achieved this without you!
URL:https://pomperadventures.com/event/pomper-adventures-and-safaris-wins-prestigious-award/
LOCATION:Nairobi\, Argyle Grand Hotel Nairobi\, Nairobi\, 00100\, Kenya
CATEGORIES:Awards
ATTACH;FMTTYPE=image/jpeg:https://pomperadventures.com/wp-content/uploads/2024/12/WhatsApp-Image-2024-12-16-at-10.22.25_d0ed939c-e1734430142759.jpg
END:VEVENT
END:VCALENDAR